BEGIN:VCALENDAR
VERSION:2.0
PRODID:-//Horta Lleida - ECPv6.15.20//NONSGML v1.0//EN
CALSCALE:GREGORIAN
METHOD:PUBLISH
X-ORIGINAL-URL:https://hortadelleida.paeria.cat
X-WR-CALDESC:Esdeveniments per Horta Lleida
REFRESH-INTERVAL;VALUE=DURATION:PT1H
X-Robots-Tag:noindex
X-PUBLISHED-TTL:PT1H
BEGIN:VTIMEZONE
TZID:UTC
BEGIN:STANDARD
TZOFFSETFROM:+0000
TZOFFSETTO:+0000
TZNAME:UTC
DTSTART:20210101T000000
END:STANDARD
END:VTIMEZONE
BEGIN:VEVENT
DTSTART;VALUE=DATE:20220305
DTEND;VALUE=DATE:20220306
DTSTAMP:20260421T035309
CREATED:20220713T075436Z
LAST-MODIFIED:20220713T075436Z
UID:1192-1646438400-1646524799@hortadelleida.paeria.cat
SUMMARY:Festa de Carnaval de Llívia i Voltants
DESCRIPTION:
URL:https://hortadelleida.paeria.cat/event/festa-de-carnaval-de-llivia-i-voltants/
END:VEVENT
BEGIN:VEVENT
DTSTART;VALUE=DATE:20220312
DTEND;VALUE=DATE:20220313
DTSTAMP:20260421T035309
CREATED:20220713T075525Z
LAST-MODIFIED:20220713T075525Z
UID:1197-1647043200-1647129599@hortadelleida.paeria.cat
SUMMARY:Torneig de Futbolí de Llívia i Voltants
DESCRIPTION:
URL:https://hortadelleida.paeria.cat/event/torneig-de-futboli-de-llivia-i-voltants/
END:VEVENT
BEGIN:VEVENT
DTSTART;VALUE=DATE:20220326
DTEND;VALUE=DATE:20220327
DTSTAMP:20260421T035309
CREATED:20220713T075617Z
LAST-MODIFIED:20220713T075617Z
UID:1199-1648252800-1648339199@hortadelleida.paeria.cat
SUMMARY:Calçotada Popular de Llívia i Voltants
DESCRIPTION:
URL:https://hortadelleida.paeria.cat/event/calcotada-popular-de-llivia-i-voltants/
END:VEVENT
END:VCALENDAR